Workbook
Name 許可台帳マスター: #REF!
Name 許可台帳マスター: #REF!
Name 許可台帳マスター: #REF!
Name 許可台帳マスター: #REF!
Name 許可台帳マスター: #REF!
Name 許可台帳マスター: #REF!
Name 許可台帳マスター: #REF!
Name 許可台帳マスター: #REF!
Name 許可台帳マスター: #REF!
Name 許可台帳マスター: #REF!
Name 他県２: #REF!
Name 他県２: #REF!
Name 他県２: #REF!
Name 他県２: #REF!
Name 他県２: #REF!
Name 他県２: #REF!
Name 他県２: #REF!
Name 他県２: #REF!
Name 他県２: #REF!

Sheet ア実績報告兼請求書
A1: 第４号様式（第８条関係） | AN1: 農業，林業 | AO1: A | AQ1: 下関市 | AS1: 法人
A2: 電力使用量実績報告書兼中小企業特別高圧電気料金支援金（第６期）請求書 | AN2: 漁業 | AO2: B | AQ2: 宇部市 | AS2: 団体等
AN3: 鉱業，採石業，砂利採取業 | AO3: C | AQ3: 山口市 | AS3: 個人事業主
A4: 提出先 | R4: 報告日 | AN4: 建設業 | AO4: D | AQ4: 萩市
A5: 中小企業特別高圧電気料金支援金事務局 あて | AN5: 製造業 | AO5: E | AQ5: 防府市
A6: 標記について、下記のとおり実績を報告するとともに、中小企業特別高圧電気料金支援金を請求します。 | AN6: 電気・ガス・熱供給・水道業 | AO6: F | AQ6: 下松市
AN7: 情報通信業 | AO7: G | AQ7: 岩国市
A8: １ 申請者に関する事項 | AN8: 運輸業，郵便業 | AO8: H | AQ8: 光市
A9: 申請者の 住所 | F9: 郵便番号 | R9: 申請者の種別 | AN9: 卸売業，小売業 | AO9: I | AQ9: 長門市
AN10: 金融業，保険業 | AO10: J | AQ10: 柳井市
A11: ふりがな | V11: 法人番号（個人事業主は入力不要） | AN11: 不動産業，物品賃貸業 | AO11: K | AQ11: 美祢市
A12: 法人名・屋号 | AN12: 学術研究，専門・技術サービス業 | AO12: L | AQ12: 周南市
A13: 生年月日 （個人事業主の場合） | R13: 電話番号 （日中連絡可能な番号） | AN13: 宿泊業，飲食サービス業 | AO13: M | AQ13: 山陽小野田市
A14: 代表者職名 | R14: 担当者職名 | AN14: 生活関連サービス業，娯楽業 | AO14: N | AQ14: 周防大島町
A15: 代表者氏名 | R15: （ふりがな） 担当者氏名 | AN15: 教育，学習支援業 | AO15: O | AQ15: 和木町
A16: 申請区分 | H16: Ⅰ 電力会社から直接に受電 | U16: Ⅱ 施設等を経由して間接的に受電 | AN16: 医療，福祉 | AO16: P | AQ16: 上関町
AN17: 複合サービス事業 | AO17: Q | AQ17: 田布施町
A18: ２ 電力使用量実績表 ※電力使用量内訳表（第４号様式の２）より転記されます。 | AN18: サービス業（他に分類されないもの） | AO18: R | AQ18: 平生町
A19: 事業所名 | F19: 事業所① | L19: 事業所② | R19: 事業所③ | X19: 合計 | AD19: 支援金額 | AN19: 公務（他に分類されるものを除く） | AO19: S | AQ19: 阿武町
F20: =イ電力使用量内訳表!G4 -> 0 | L20: =イ電力使用量内訳表!L4 -> 0 | R20: =イ電力使用量内訳表!Q4 -> 0 | AN20: 分類不能の産業 | AO20: T | AQ20: 【県外】
A21: 令和８年7月分 | F21: =+イ電力使用量内訳表!I8 -> 0 | K21: kWh | L21: =+イ電力使用量内訳表!N8 -> 0 | Q21: kWh | R21: =+イ電力使用量内訳表!S8 -> 0 | W21: kWh | X21: =+イ電力使用量内訳表!V8 | AC21: kWh | AD21: =+イ電力使用量内訳表!Y8 | AG21: 円
A22: 令和８年8月分 | F22: =+イ電力使用量内訳表!I9 -> 0 | K22: kWh | L22: =+イ電力使用量内訳表!N9 -> 0 | Q22: kWh | R22: =+イ電力使用量内訳表!S9 -> 0 | W22: kWh | X22: =+イ電力使用量内訳表!V9 | AC22: kWh | AD22: =+イ電力使用量内訳表!Y9 | AG22: 円
A23: 令和８年9月分 | F23: =+イ電力使用量内訳表!I10 -> 0 | K23: kWh | L23: =+イ電力使用量内訳表!N10 -> 0 | Q23: kWh | R23: =+イ電力使用量内訳表!S10 -> 0 | W23: kWh | X23: =+イ電力使用量内訳表!V10 | AC23: kWh | AD23: =+イ電力使用量内訳表!Y10 | AG23: 円
A24: 合 計 | F24: =+イ電力使用量内訳表!I11 | K24: kWh | L24: =+イ電力使用量内訳表!N11 | Q24: kWh | R24: =+イ電力使用量内訳表!S11 | W24: kWh | X24: =+イ電力使用量内訳表!V11 | AC24: kWh | AD24: =+イ電力使用量内訳表!Y11 | AG24: 円
A26: ３ 請求額 | R26: 円
A29: ４ 支援金振込口座
A30: 中小企業特別高圧電気料金支援金（第４期又は第５期）受給時と同じ口座を使用します。
A31: ※上欄にチェックがない場合に記入 （法人の場合は当該法人、個人事業主の場合は、ご本人の口座に限ります。）
A32: 金融機関 | F32: 金融機関名 | T32: 支店名
P33: 銀行 | AD33: 支店
P34: 金庫 | AD34: 出張所
P35: 組合・農協 | AD35: 営業部
A36: 口座番号 | F36: 預金種別 | R36: 口座番号
A37: 口座名義 | F37: ﾌﾘｶﾞﾅ
F38: 漢 字
A40: ５ 添付書類 | AC40: 申請区分
AC41: Ⅰ | AF41: Ⅱ
A42: 電力使用量内訳表（第４号様式の２） | AC42: 要 | AF42: 要
A43: 施設等入居者等における電力使用量実績表（第４号様式の３） ※テナント事業者等を有しない場合は不要 | AC43: 要 | AF43: ―
A44: 小売電気事業者が発行する請求書の写し及び領収を確認できる書類の写し | AC44: 要 | AF44: ―
...

Sheet ア実績報告兼請求書【記載例】
A1: 第４号様式（第８条関係） | AN1: 農業，林業 | AO1: A | AQ1: 下関市 | AS1: 法人
A2: 電力使用量実績報告書兼中小企業特別高圧電気料金支援金（第６期）請求書 | AN2: 漁業 | AO2: B | AQ2: 宇部市 | AS2: 団体等
AN3: 鉱業，採石業，砂利採取業 | AO3: C | AQ3: 山口市 | AS3: 個人事業主
A4: 提出先 | R4: 報告日 | W4: 46309 | AN4: 建設業 | AO4: D | AQ4: 萩市
A5: 中小企業特別高圧電気料金支援金事務局 あて | AN5: 製造業 | AO5: E | AQ5: 防府市
A6: 標記について、下記のとおり実績を報告するとともに、中小企業特別高圧電気料金支援金を請求します。 | AN6: 電気・ガス・熱供給・水道業 | AO6: F | AQ6: 下松市
AN7: 情報通信業 | AO7: G | AQ7: 岩国市
A8: １ 申請者に関する事項 | AN8: 運輸業，郵便業 | AO8: H | AQ8: 光市
A9: 申請者の 住所 | F9: 郵便番号 | J9: 000-0000 | R9: 申請者の種別 | W9: 法人 | AN9: 卸売業，小売業 | AO9: I | AQ9: 長門市
F10: 山口市 | L10: 〇〇町一丁目１番１号 | AN10: 金融業，保険業 | AO10: J | AQ10: 柳井市
A11: ふりがな | F11: かぶしきがいしゃやまぐちしょうてん | V11: 法人番号（個人事業主は入力不要） | AN11: 不動産業，物品賃貸業 | AO11: K | AQ11: 美祢市
A12: 法人名・屋号 | F12: 株式会社山口商店 | V12: 0 | W12: 0 | X12: 0 | Y12: 0 | Z12: 0 | AA12: 0 | AB12: 0 | AC12: 0 | AD12: 0 | AE12: 0 | AF12: 0 | AG12: 0 | AH12: 0 | AN12: 学術研究，専門・技術サービス業 | AO12: L | AQ12: 周南市
A13: 生年月日 （個人事業主の場合） | R13: 電話番号 （日中連絡可能な番号） | W13: 000-0000-0000 | AN13: 宿泊業，飲食サービス業 | AO13: M | AQ13: 山陽小野田市
A14: 代表者職名 | F14: 代表取締役社長 | R14: 担当者職名 | AN14: 生活関連サービス業，娯楽業 | AO14: N | AQ14: 周防大島町
A15: 代表者氏名 | F15: 山口 太郎 | R15: （ふりがな） 担当者氏名 | W15: やまぐち じろう 山口 二郎 | AN15: 教育，学習支援業 | AO15: O | AQ15: 和木町
A16: 申請区分 | H16: Ⅰ 電力会社から直接に受電 | U16: Ⅱ 施設等を経由して間接的に受電 | AN16: 医療，福祉 | AO16: P | AQ16: 上関町
AN17: 複合サービス事業 | AO17: Q | AQ17: 田布施町
A18: ２ 電力使用量実績表 ※電力使用量内訳表（第４号様式の２）より転記されます。 | AN18: サービス業（他に分類されないもの） | AO18: R | AQ18: 平生町
A19: 事業所名 | F19: 事業所① | L19: 事業所② | R19: 事業所③ | X19: 合計 | AD19: 支援金額 | AN19: 公務（他に分類されるものを除く） | AO19: S | AQ19: 阿武町
F20: =イ電力使用量内訳表【記載例】!G4 -> 山口商店ヤマグチショッピングモール店 | L20: =イ電力使用量内訳表!L4 -> 0 | R20: =イ電力使用量内訳表!Q4 -> 0 | AN20: 分類不能の産業 | AO20: T | AQ20: 【県外】
A21: 令和８年7月分 | F21: =+イ電力使用量内訳表【記載例】!I8 -> 1998 | K21: kWh | L21: =+イ電力使用量内訳表【記載例】!N8 -> 0 | Q21: kWh | R21: =+イ電力使用量内訳表【記載例】!S8 -> 0 | W21: kWh | X21: =+イ電力使用量内訳表【記載例】!V8 -> 1998 | AC21: kWh | AD21: =イ電力使用量内訳表【記載例】!Y8 -> 3596 | AG21: 円
A22: 令和８年8月分 | F22: =+イ電力使用量内訳表【記載例】!I9 -> 2012 | K22: kWh | L22: =+イ電力使用量内訳表【記載例】!N9 -> 0 | Q22: kWh | R22: =+イ電力使用量内訳表【記載例】!S9 -> 0 | W22: kWh | X22: =+イ電力使用量内訳表【記載例】!V9 -> 2012 | AC22: kWh | AD22: =イ電力使用量内訳表【記載例】!Y9 -> 4627 | AG22: 円
A23: 令和８年9月分 | F23: =+イ電力使用量内訳表【記載例】!I10 -> 2134 | K23: kWh | L23: =+イ電力使用量内訳表【記載例】!N10 -> 0 | Q23: kWh | R23: =+イ電力使用量内訳表【記載例】!S10 -> 0 | W23: kWh | X23: =+イ電力使用量内訳表【記載例】!V10 -> 2134 | AC23: kWh | AD23: =イ電力使用量内訳表【記載例】!Y10 -> 3841 | AG23: 円
A24: 合 計 | F24: =+イ電力使用量内訳表【記載例】!I11 -> 6144 | K24: kWh | L24: =+イ電力使用量内訳表【記載例】!N11 | Q24: kWh | R24: =+イ電力使用量内訳表【記載例】!S11 | W24: kWh | X24: =+イ電力使用量内訳表【記載例】!V11 -> 6144 | AC24: kWh | AD24: =+イ電力使用量内訳表【記載例】!Y11 -> 12064 | AG24: 円
A26: ３ 請求額 | H26: 12064 | R26: 円
A29: ４ 支援金振込口座
A30: 中小企業特別高圧電気料金支援金（第４期又は第５期）受給時と同じ口座を使用します。
A31: ※上欄にチェックがない場合に記入 （法人の場合は当該法人、個人事業主の場合は、ご本人の口座に限ります。）
A32: 金融機関 | F32: 金融機関名 | T32: 支店名
F33: ○○ | P33: 銀行 | T33: △△ | AD33: 支店
P34: 金庫 | AD34: 出張所
P35: 組合・農協 | AD35: 営業部
A36: 口座番号 | F36: 預金種別 | J36: 普通 | R36: 口座番号 | V36: 1234567
A37: 口座名義 | F37: ﾌﾘｶﾞﾅ | J37: ｶﾌﾞｼｷｶﾞｲｼｬﾔﾏｸﾞﾁｼｮｳﾃﾝ
F38: 漢 字 | J38: 株式会社山口商店
A40: ５ 添付書類 | AC40: 申請区分
AC41: Ⅰ | AF41: Ⅱ
A42: 電力使用量内訳表（第４号様式の２） | AC42: 要 | AF42: 要
A43: 施設等入居者等における電力使用量実績表（第４号様式の３） ※テナント事業者等を有しない場合は不要 | AC43: 要 | AF43: ―
A44: 小売電気事業者が発行する請求書の写し及び領収を確認できる書類の写し | AC44: 要 | AF44: ―
...

Sheet イ電力使用量内訳表
A1: 第４号様式の２（第８条関係）
B2: 電力使用量内訳表（第６期）
B3: 事業所名 | G3: 事業所① | L3: 事業所② | Q3: 事業所③ | V3: 合 計
B5: 区 分 | G5: 契約単価 (円/kWh) ※税抜き | H5: 単価 上昇額 | I5: 電力 使用量 | L5: 契約単価 (円/kWh) ※税抜き | M5: 単価 上昇額 | N5: 電力 使用量 | Q5: 契約単価 (円/kWh) ※税抜き | R5: 単価 上昇額 | S5: 電力 使用量 | V5: 電力 使用量 | Y5: 支援金額
G6: R4.1 (基準) | L6: R4.1 (基準) | Q6: R4.1 (基準)
H7: (円/kWh) | I7: (kWh) | M7: (円/kWh) | N7: (kWh) | R7: (円/kWh) | S7: (kWh) | V7: (kWh) | Y7: (円)
B8: 令和８年７月分 | H8: =IF(G8="","",G8-$G$7) | M8: =IF(L8="","",L8-$L$7) | R8: =IF(Q8="","",Q8-$Q$7) | V8: =IF((I8+N8+S8)=0,"",I8+N8+S8) | Y8: =IF(V8="","",ROUNDDOWN(IF(V8*1.8>5000000,5000000,V8*1.8), 0))
B9: 令和８年８月分 | H9: =IF(G9="","",G9-$G$7) | M9: =IF(L9="","",L9-$L$7) | R9: =IF(Q9="","",Q9-$Q$7) | V9: =IF((I9+N9+S9)=0,"",I9+N9+S9) | Y9: =IF(V9="","",ROUNDDOWN(IF(V9*2.3>5000000,5000000,V9*2.3), 0))
B10: 令和８年９月分 | H10: =IF(G10="","",G10-$G$7) | M10: =IF(L10="","",L10-$L$7) | R10: =IF(Q10="","",Q10-$Q$7) | V10: =IF((I10+N10+S10)=0,"",I10+N10+S10) | Y10: =IF(V10="","",ROUNDDOWN(IF(V10*1.8>5000000,5000000,V10*1.8), 0))
B11: 合 計 | G11: ― | H11: ― | I11: =IF(SUM(I8:K10)=0,"",SUM(I8:K10)) | L11: ― | M11: ― | N11: =IF(SUM(N8:P10)=0,"",SUM(N8:P10)) | Q11: ― | R11: ― | S11: =IF(SUM(S8:U10)=0,"",SUM(S8:U10)) | V11: =IF(AND(I11="",N11="",S11=""),"",SUM(I11,N11,S11)) | Y11: =IF(V11="","",ROUNDDOWN(SUM(Y8:AA10),0))
B12: ※支援金額は、1円未満の額を切り捨てます。
B13: ※契約単価は、小数点第二位以下を四捨五入して記入願います。
C16: 令和 年 月 日
M17: 申請者

Sheet イ電力使用量内訳表【記載例】
A1: 第４号様式の２（第８条関係）
A2: 電力使用量内訳表（第６期）
B3: 事業所名 | G3: 事業所① | L3: 事業所② | Q3: 事業所③ | V3: 合 計
G4: 山口商店ヤマグチショッピングモール店
B5: 区 分 | G5: 契約単価 (円/kWh) ※税抜き | H5: 単価 上昇額 | I5: 電力 使用量 | L5: 契約単価 (円/kWh) ※税抜き | M5: 単価 上昇額 | N5: 電力 使用量 | Q5: 契約単価 (円/kWh) ※税抜き | R5: 単価 上昇額 | S5: 電力 使用量 | V5: 電力 使用量 | Y5: 支援金額
G6: R4.1 (基準) | L6: R4.1 (基準) | Q6: R4.1 (基準)
G7: 13.7 | H7: (円/kWh) | I7: (kWh) | M7: (円/kWh) | N7: (kWh) | R7: (円/kWh) | S7: (kWh) | V7: (kWh) | Y7: (円)
B8: 令和８年７月分 | G8: 27.9 | H8: =IF(G8="","",G8-$G$7) -> 14.2 | I8: 1998 | M8: =IF(L8="","",L8-$L$7) | R8: =IF(Q8="","",Q8-$Q$7) | V8: =IF((I8+N8+S8)=0,"",I8+N8+S8) -> 1998 | Y8: =IF(V8="","",ROUNDDOWN(IF(V8*1.8>5000000,5000000,V8*1.8), 0)) -> 3596
B9: 令和８年８月分 | H9: =IF(G9="","",G9-$G$7) | I9: 2012 | M9: =IF(L9="","",L9-$L$7) | R9: =IF(Q9="","",Q9-$Q$7) | V9: =IF((I9+N9+S9)=0,"",I9+N9+S9) -> 2012 | Y9: =IF(V9="","",ROUNDDOWN(IF(V9*2.3>5000000,5000000,V9*2.3), 0)) -> 4627
B10: 令和８年９月分 | H10: =IF(G10="","",G10-$G$7) | I10: 2134 | M10: =IF(L10="","",L10-$L$7) | R10: =IF(Q10="","",Q10-$Q$7) | V10: =IF((I10+N10+S10)=0,"",I10+N10+S10) -> 2134 | Y10: =IF(V10="","",ROUNDDOWN(IF(V10*1.8>5000000,5000000,V10*1.8), 0)) -> 3841
B11: 合 計 | G11: ― | H11: ― | I11: =IF(SUM(I8:K10)=0,"",SUM(I8:K10)) -> 6144 | L11: ― | M11: ― | N11: =IF(SUM(N8:P10)=0,"",SUM(N8:P10)) | Q11: ― | R11: ― | S11: =IF(SUM(S8:U10)=0,"",SUM(S8:U10)) | V11: =IF(AND(I11="",N11="",S11=""),"",SUM(I11,N11,S11)) -> 6144 | Y11: =IF(V11="","",ROUNDDOWN(SUM(Y8:AA10),0)) -> 12064
B12: ※支援金額は、1円未満の額を切り捨てます。
B13: ※契約単価は、小数点第二位以下を四捨五入して記入願います。
C16: 令和 ８年１０月 １４日
M17: 申請者 | O17: 株式会社山口商店

Sheet ウ施設等入居者実績表
A1: 第４号様式の３（第８条関係）
A2: 施設等入居者等における電力使用量実績表（第６期）
B5: １ 施設等について【全体】
B6: 施設等の名称 | D6: 〔施設全体〕電力使用量（kWh）
D7: 令和８年７月分 | E7: 令和８年８月分 | F7: 令和８年９月分 | G7: 合 計
G8: =IF(SUM(D8:F8)=0,"",SUM(D8:F8))
B10: ２ 運営事業者直営分について
B11: 共用部分の電気料金高騰分 | D11: 〔直営分〕電力使用量（kWh）
B12: （直営分に計上/各入居者へ転嫁） | D12: 令和８年７月分 | E12: 令和８年８月分 | F12: 令和８年９月分 | G12: 合 計
G13: =IF(SUM(D13:F13)=0,"",SUM(D13:F13))
B14: ３ 入居者負担分について
B15: 店舗等の名称 | C15: 店舗等の運営会社 | D15: 〔入居者負担分〕電力使用量（kWh）
C16: 会社名 | D16: 令和８年７月分 | E16: 令和８年８月分 | F16: 令和８年９月分 | G16: 合 計
G17: =IF(SUM(D17:F17)=0,"",SUM(D17:F17))
G18: =IF(SUM(D18:F18)=0,"",SUM(D18:F18))
G19: =IF(SUM(D19:F19)=0,"",SUM(D19:F19))
G20: =IF(SUM(D20:F20)=0,"",SUM(D20:F20))
G21: =IF(SUM(D21:F21)=0,"",SUM(D21:F21))
G22: =IF(SUM(D22:F22)=0,"",SUM(D22:F22))
G23: =IF(SUM(D23:F23)=0,"",SUM(D23:F23))
G24: =IF(SUM(D24:F24)=0,"",SUM(D24:F24))
G25: =IF(SUM(D25:F25)=0,"",SUM(D25:F25))
G26: =IF(SUM(D26:F26)=0,"",SUM(D26:F26))
G27: =IF(SUM(D27:F27)=0,"",SUM(D27:F27))
G28: =IF(SUM(D28:F28)=0,"",SUM(D28:F28))
... G35: =IF(SUM(D35:F35)=0,"",SUM(D35:F35))
B37: 集 計 表 | D37: 令和８年７月分 | E37: 令和８年８月分 | F37: 令和８年９月分 | G37: 合 計
B38: 電力使用量 (kWh) | C38: 施設全体 | D38: =IF(D8=0,"",D8) | E38: =IF(E8=0,"",E8) | F38: =IF(F8=0,"",F8) | G38: =IF(SUM(D38:F38)=0,"",SUM(D38:F38))
C39: 直営分 | D39: =IF(D13=0,"",D13) | E39: =IF(E13=0,"",E13) | F39: =IF(F13=0,"",F13) | G39: =IF(SUM(D39:F39)=0,"",SUM(D39:F39))
C40: 入居者負担分 | D40: =IF(SUM(D17:D35)=0,"",SUM(D17:D35)) | E40: =IF(SUM(E17:E35)=0,"",SUM(E17:E35)) | F40: =IF(SUM(F17:F35)=0,"",SUM(F17:F35)) | G40: =IF(SUM(D40:F40)=0,"",SUM(D40:F40))
D45: =IF(D38<D39+D40,"エラー","OK") -> #VALUE! | E45: =IF(E38<E39+E40,"エラー","OK") -> #VALUE! | F45: =IF(F38<F39+F40,"エラー","OK") -> #VALUE! | G45: =IF(G38<G39+G40,"エラー","OK") -> #VALUE!

Sheet ウ施設等入居者実績表【記載例】
A1: 第４号様式の３（第８条関係）
A2: 施設等入居者等における電力使用量実績表（第６期）
B5: １ 施設等について【全体】
B6: 施設等の名称 | D6: 〔施設全体〕電力使用量（kWh）
D7: 令和８年７月分 | E7: 令和８年８月分 | F7: 令和８年９月分 | G7: 合 計
B8: ヤマグチショッピングモール | D8: 545236 | E8: 643112 | F8: 685715 | G8: =IF(SUM(D8:F8)=0,"",SUM(D8:F8)) -> 1874063
B10: ２ 運営事業者直営分について
B11: 共用部分の電気料金高騰分 | D11: 〔直営分〕電力使用量（kWh）
B12: （直営分に計上/各入居者へ転嫁） | D12: 令和８年７月分 | E12: 令和８年８月分 | F12: 令和８年９月分 | G12: 合 計
B13: 直営分に計上 | D13: 56005 | E13: 118997 | F13: 98023 | G13: =IF(SUM(D13:F13)=0,"",SUM(D13:F13)) -> 273025
B14: ３ 入居者負担分について
B15: 店舗等の名称 | C15: 店舗等の運営会社 | D15: 〔入居者負担分〕電力使用量（kWh）
C16: 会社名 | D16: 令和８年７月分 | E16: 令和８年８月分 | F16: 令和８年９月分 | G16: 合 計
B17: ○○スポーツ | C17: (株)○○スポーツ | D17: 126120 | E17: 140191 | F17: 161023 | G17: =IF(SUM(D17:F17)=0,"",SUM(D17:F17)) -> 427334
B18: スーパー△△ | C18: (株)△△ | D18: 234210 | E18: 243812 | F18: 260211 | G18: =IF(SUM(D18:F18)=0,"",SUM(D18:F18)) -> 738233
B19: □□被服 | C19: □□(株) | D19: 128901 | E19: 140112 | F19: 166458 | G19: =IF(SUM(D19:F19)=0,"",SUM(D19:F19)) -> 435471
G20: =IF(SUM(D20:F20)=0,"",SUM(D20:F20))
G21: =IF(SUM(D21:F21)=0,"",SUM(D21:F21))
G22: =IF(SUM(D22:F22)=0,"",SUM(D22:F22))
G23: =IF(SUM(D23:F23)=0,"",SUM(D23:F23))
G24: =IF(SUM(D24:F24)=0,"",SUM(D24:F24))
G25: =IF(SUM(D25:F25)=0,"",SUM(D25:F25))
G26: =IF(SUM(D26:F26)=0,"",SUM(D26:F26))
G27: =IF(SUM(D27:F27)=0,"",SUM(D27:F27))
G28: =IF(SUM(D28:F28)=0,"",SUM(D28:F28))
G29: =IF(SUM(D29:F29)=0,"",SUM(D29:F29))
G30: =IF(SUM(D30:F30)=0,"",SUM(D30:F30))
G31: =IF(SUM(D31:F31)=0,"",SUM(D31:F31))
... G35: =IF(SUM(D35:F35)=0,"",SUM(D35:F35))
B37: 集 計 表 | D37: 令和８年７月分 | E37: 令和８年８月分 | F37: 令和８年９月分 | G37: 合 計
B38: 電力使用量 (kWh) | C38: 施設全体 | D38: =IF(D8=0,"",D8) -> 545236 | E38: =IF(E8=0,"",E8) -> 643112 | F38: =IF(F8=0,"",F8) -> 685715 | G38: =IF(SUM(D38:F38)=0,"",SUM(D38:F38)) -> 1874063
C39: 直営分 | D39: =IF(D13=0,"",D13) -> 56005 | E39: =IF(E13=0,"",E13) -> 118997 | F39: =IF(F13=0,"",F13) -> 98023 | G39: =IF(SUM(D39:F39)=0,"",SUM(D39:F39)) -> 273025
C40: 入居者負担分 | D40: =IF(SUM(D17:D35)=0,"",SUM(D17:D35)) -> 489231 | E40: =IF(SUM(E17:E35)=0,"",SUM(E17:E35)) -> 524115 | F40: =IF(SUM(F17:F35)=0,"",SUM(F17:F35)) -> 587692 | G40: =IF(SUM(D40:F40)=0,"",SUM(D40:F40)) -> 1601038
D45: =IF(D38<D39+D40,"エラー","OK") -> OK | E45: =IF(E38<E39+E40,"エラー","OK") -> OK | F45: =IF(F38<F39+F40,"エラー","OK") -> OK | G45: =IF(G38<G39+G40,"エラー","OK") -> OK

Sheet 貼付台紙（請求書等）
A1: 【添付台紙①】電気料金の請求書（写し）
A3: 申請者 ：
A5: 添付欄
A44: ＜留意事項＞ 〇領収書、振込通知書等、令和８年７～９月の電気料金の支払いが確認できる書類が必要です。

Sheet 貼付台紙（領収書等）
A1: 【添付台紙②】電気料金の領収書（写し）
A3: 申請者 ：
A5: 添付欄
A44: ＜留意事項＞ 〇領収書、振込通知書等、令和８年７～９月の電気料金の支払いが確認できる書類が必要です。

Sheet 添付台紙（通帳写し）
A1: 【添付台紙③】振込先口座を確認できる書類（通帳の写し）
A3: 申請者 ：
A5: 通帳の写し添付欄（オモテ面）
A20: 通帳の写し添付欄（表紙裏面見開き１・２ページ）
